BEGIN:VCALENDAR
VERSION:2.0
PRODID:-//The Newbury Society - ECPv6.6.3//NONSGML v1.0//EN
CALSCALE:GREGORIAN
METHOD:PUBLISH
X-ORIGINAL-URL:https://newbury-society.org.uk
X-WR-CALDESC:Events for The Newbury Society
REFRESH-INTERVAL;VALUE=DURATION:PT1H
X-Robots-Tag:noindex
X-PUBLISHED-TTL:PT1H
BEGIN:VTIMEZONE
TZID:UTC
BEGIN:STANDARD
TZOFFSETFROM:+0000
TZOFFSETTO:+0000
TZNAME:UTC
DTSTART:20260101T000000
END:STANDARD
END:VTIMEZONE
BEGIN:VEVENT
DTSTART;TZID=UTC:20260514T193000
DTEND;TZID=UTC:20260514T213000
DTSTAMP:20260420T162243
CREATED:20260116T174439Z
LAST-MODIFIED:20260116T174619Z
UID:1220-1778787000-1778794200@newbury-society.org.uk
SUMMARY:The Hartley Trust and its Almshouses
DESCRIPTION:The Hartley Trust (formerly Donnington Hospital Trust) was founded in 1393 and is Berkshire’s oldest charity\, providing over 70 almshouses for retired people in Berkshire and Oxfordshire.\nWillie Hartley-Russell was appointed as a Deputy Lieutenant for the County of Berkshire in 2016 and served as High Sheriff of the County in 2021/2022.
URL:https://newbury-society.org.uk/event/the-hartley-trust-and-its-almshouses
LOCATION:Parish Room\, St. John’s Church\, St. John’s Road\, Newbury\, Berkshire\, RG14 7PY\, United Kingdom
END:VEVENT
END:VCALENDAR