BEGIN:VCALENDAR
VERSION:2.0
PRODID:-//The Newbury Society - ECPv6.6.3//NONSGML v1.0//EN
CALSCALE:GREGORIAN
METHOD:PUBLISH
X-ORIGINAL-URL:https://newbury-society.org.uk
X-WR-CALDESC:Events for The Newbury Society
REFRESH-INTERVAL;VALUE=DURATION:PT1H
X-Robots-Tag:noindex
X-PUBLISHED-TTL:PT1H
BEGIN:VTIMEZONE
TZID:UTC
BEGIN:STANDARD
TZOFFSETFROM:+0000
TZOFFSETTO:+0000
TZNAME:UTC
DTSTART:20260101T000000
END:STANDARD
END:VTIMEZONE
BEGIN:VEVENT
DTSTART;TZID=UTC:20260623T110000
DTEND;TZID=UTC:20260623T150000
DTSTAMP:20260420T220702
CREATED:20260116T180000Z
LAST-MODIFIED:20260116T181013Z
UID:1230-1782212400-1782226800@newbury-society.org.uk
SUMMARY:Society visit to Sandham Memorial Chapel
DESCRIPTION:The chapel houses a grand series of large-scale murals by the celebrated war artist Stanley Spencer. \nIt was constructed to honour the ‘forgotten dead’ of the First World War\, who were not remembered on any official memorials.  The murals were  inspired by Spencer’s own experiences as a medical orderly at the Beaufort Hospital in Bristol and as both orderly and soldier on the Salonika front.  It  took six years to complete  the 19 oil paintings. \nDetails of arrangements to follow. \n 
URL:https://newbury-society.org.uk/event/society-visit-to-sandham-memorial-chapel
LOCATION:Sandham Memorial Chapel\, Sandham Memorial Chapel\, Newbury\, Berkshire\, RG20 9JT\, United Kingdom
END:VEVENT
BEGIN:VEVENT
DTSTART;TZID=UTC:20260910T193000
DTEND;TZID=UTC:20260910T213000
DTSTAMP:20260420T220702
CREATED:20260116T180342Z
LAST-MODIFIED:20260116T180342Z
UID:1236-1789068600-1789075800@newbury-society.org.uk
SUMMARY:Newbury in the Coaching Era
DESCRIPTION:Details to follow
URL:https://newbury-society.org.uk/event/newbury-in-the-coaching-era
LOCATION:Parish Room\, St. John’s Church\, St. John’s Road\, Newbury\, Berkshire\, RG14 7PY\, United Kingdom
END:VEVENT
BEGIN:VEVENT
DTSTART;TZID=UTC:20261008T193000
DTEND;TZID=UTC:20261008T213000
DTSTAMP:20260420T220702
CREATED:20260116T180904Z
LAST-MODIFIED:20260116T180904Z
UID:1238-1791487800-1791495000@newbury-society.org.uk
SUMMARY:The Newbury Society Annual General Meeting and Review of the Year
DESCRIPTION:
URL:https://newbury-society.org.uk/event/the-newbury-society-annual-general-meeting-and-review-of-the-year
LOCATION:Parish Room\, St. John’s Church\, St. John’s Road\, Newbury\, Berkshire\, RG14 7PY\, United Kingdom
END:VEVENT
BEGIN:VEVENT
DTSTART;TZID=UTC:20261112T193000
DTEND;TZID=UTC:20261112T213000
DTSTAMP:20260420T220702
CREATED:20260116T180843Z
LAST-MODIFIED:20260116T180843Z
UID:1240-1794511800-1794519000@newbury-society.org.uk
SUMMARY:The History of Donnington Grove
DESCRIPTION:Details to follow
URL:https://newbury-society.org.uk/event/the-history-of-donnington-grove
LOCATION:Parish Room\, St. John’s Church\, St. John’s Road\, Newbury\, Berkshire\, RG14 7PY\, United Kingdom
END:VEVENT
END:VCALENDAR