BEGIN:VCALENDAR
VERSION:2.0
PRODID:-//The Newbury Society - ECPv6.6.3//NONSGML v1.0//EN
CALSCALE:GREGORIAN
METHOD:PUBLISH
X-WR-CALNAME:The Newbury Society
X-ORIGINAL-URL:https://newbury-society.org.uk
X-WR-CALDESC:Events for The Newbury Society
REFRESH-INTERVAL;VALUE=DURATION:PT1H
X-Robots-Tag:noindex
X-PUBLISHED-TTL:PT1H
BEGIN:VTIMEZONE
TZID:UTC
BEGIN:STANDARD
TZOFFSETFROM:+0000
TZOFFSETTO:+0000
TZNAME:UTC
DTSTART:20210101T000000
END:STANDARD
END:VTIMEZONE
BEGIN:VEVENT
DTSTART;TZID=UTC:20221110T193000
DTEND;TZID=UTC:20221110T213000
DTSTAMP:20260422T224543
CREATED:20211025T135851Z
LAST-MODIFIED:20211129T134603Z
UID:585-1668108600-1668115800@newbury-society.org.uk
SUMMARY:Newbury Breweries
DESCRIPTION:A History of Newbury’s Breweries\, from the earliest records to the final demise of the industry in the town. A lavishly illustrated talk piecing together the fascinating and often complicated history of the descent of these businesses large and small.\nPhil Wood\, an enthusiastic local historian\, is President of the Newbury District Field Club. For many years he has been uncovering all there is to know about the large number of pubs and breweries that once seemed to fill the town. Study of the existing pubs also gives him the opportunity for some enjoyable field work!
URL:https://newbury-society.org.uk/event/newbury-breweries
LOCATION:Parish Room\, St. John’s Church\, St. John’s Road\, Newbury\, Berkshire\, RG14 7PY\, United Kingdom
CATEGORIES:Meetings
END:VEVENT
BEGIN:VEVENT
DTSTART;TZID=UTC:20221013T193000
DTEND;TZID=UTC:20221013T213000
DTSTAMP:20260422T224543
CREATED:20211015T112730Z
LAST-MODIFIED:20211129T133649Z
UID:564-1665689400-1665696600@newbury-society.org.uk
SUMMARY:The Newbury Society AGM
DESCRIPTION:Annual General Meeting of the Newbury Society\nNewbury Society chairman David Peacock reviews the past year\, talking about Newbury today\, some of its attractions\, and the range of challenges it faces.\nDavid Peacock researches\, writes and talks on the history of the Newbury area from the Stone Age to the present day.  He has written for a range of publications and gives talks to local clubs and societies.  Over many years he has taught evening classes in local history\, now at West Berkshire Museum.  He was elected the Society’s chairman in 2017.
URL:https://newbury-society.org.uk/event/annual-general-meeting
LOCATION:Parish Room\, St. John’s Church\, St. John’s Road\, Newbury\, Berkshire\, RG14 7PY\, United Kingdom
CATEGORIES:Meetings
END:VEVENT
BEGIN:VEVENT
DTSTART;TZID=UTC:20220908T193000
DTEND;TZID=UTC:20220908T213000
DTSTAMP:20260422T224543
CREATED:20211128T195003Z
LAST-MODIFIED:20220601T221223Z
UID:617-1662665400-1662672600@newbury-society.org.uk
SUMMARY:Changes in Agriculture since the Great War
DESCRIPTION:This talk will cover agriculture over the period from after the end of World War 1 up to the present day\, with some references to local agriculture; and will therefore cover the period that most people are able to relate to.  It will include references to the foundation of the industry\, and a review of the future of the industry\, with challenges from global warming and changing dietary preferences. \nMike Robinson is an Agronomist who has worked locally for most of his life. He was born into farming and after five years of qualification he moved into production systems for arable crops and grassland\, with a particular emphasis on dairy cattle and sheep\, and incorporating estate management.  Latterly the increased demand for energy required a concentration on high yielding systems and the use of agricultural land for bio-fuels and anaerobic digestion; and here his special interest in plant breeding and genetics has proved most useful.
URL:https://newbury-society.org.uk/event/details-to-be-confirmed
LOCATION:Parish Room\, St. John’s Church\, St. John’s Road\, Newbury\, Berkshire\, RG14 7PY\, United Kingdom
CATEGORIES:Meetings
END:VEVENT
BEGIN:VEVENT
DTSTART;TZID=UTC:20220512T193000
DTEND;TZID=UTC:20220512T213000
DTSTAMP:20260422T224543
CREATED:20211025T135640Z
LAST-MODIFIED:20211129T134712Z
UID:582-1652383800-1652391000@newbury-society.org.uk
SUMMARY:Conservation Area Appraisals: Enhancing historic areas
DESCRIPTION:A discussion of methods of appraisal and the contents of Conservation Area Appraisals\nSue Ellis qualified at Reading University in the 1970’s with a degree in History and Archaeology\, and although her career before retirement was mostly based in libraries and in local authority policy departments\, she maintains her deep interest in local history with membership of several local societies. She took a post graduate certificate in the archaeology of standing buildings in 2002\, and now provides training and support for local parishes and societies on local listing\, and the conservation area appraisal process.
URL:https://newbury-society.org.uk/event/conservation-area-appraisals-enhancing-historic-areas
LOCATION:Parish Room\, St. John’s Church\, St. John’s Road\, Newbury\, Berkshire\, RG14 7PY\, United Kingdom
CATEGORIES:Meetings
END:VEVENT
BEGIN:VEVENT
DTSTART;TZID=UTC:20220414T193000
DTEND;TZID=UTC:20220414T210000
DTSTAMP:20260422T224543
CREATED:20211015T112352Z
LAST-MODIFIED:20211116T193505Z
UID:561-1649964600-1649970000@newbury-society.org.uk
SUMMARY:Newbury Traffic and Transport
DESCRIPTION:Jon Winstanley will be looking at a range of issues\, including how the council assesses demand\, recent and planned schemes for highways changes in and around Newbury (including the Robin Hood roundabout); work on alternative travel options; and demand management/ co-ordination.\nJon Winstanley is Service Director for Environment at West Berkshire Council.
URL:https://newbury-society.org.uk/event/newbury-traffic-and-transport
LOCATION:Parish Room\, St. John’s Church\, St. John’s Road\, Newbury\, Berkshire\, RG14 7PY\, United Kingdom
CATEGORIES:Meetings
END:VEVENT
BEGIN:VEVENT
DTSTART;TZID=UTC:20220310T193000
DTEND;TZID=UTC:20220310T213000
DTSTAMP:20260422T224543
CREATED:20211103T211400Z
LAST-MODIFIED:20211129T134740Z
UID:592-1646940600-1646947800@newbury-society.org.uk
SUMMARY:Understanding Boxford's Roman mosaic
DESCRIPTION:The late Roman figurative mosaic discovered at Mud Hole\, Boxford in Berkshire between 2017 and 2019 has proved to be the most important found in Britain for over fifty years. Covered with scenes from classical mythology and with a unique design\, it is indeed unlike anything previously found in Britain. This lecture offers the excavator’s interpretation into its design\, the wealth of figurative work and the stories from Greco-Roman mythology that it depicts and how it reflects the art of its own and previous centuries and the culture of those who commissioned it.\nAnthony Beeson is an expert on Roman and Greek art and architecture\, a Classical iconographer.  He is the author of the books Roman Gardens and The Boxford Mosaic\, as well as many articles on antiquities and art in academic journals. His latest volume\, Mosaics in Roman Britain is due for publication in March 2022. He is the Hon. Archivist of the Association for Roman Archaeology\, and a member and former Archivist of the Association for the Study and Preservation of Roman Mosaics\, and has appeared on Time Team. In 2017-9 he interpreted\, excavated and produced the official report on the internationally-famous mosaic of Pegasus and Bellerophon found at Boxford in Berkshire.
URL:https://newbury-society.org.uk/event/winning-is-the-name-of-the-game-understanding-boxfords-roman-mosaic
LOCATION:Parish Room\, St. John’s Church\, St. John’s Road\, Newbury\, Berkshire\, RG14 7PY\, United Kingdom
CATEGORIES:Meetings
END:VEVENT
BEGIN:VEVENT
DTSTART;TZID=UTC:20220210T193000
DTEND;TZID=UTC:20220210T213000
DTSTAMP:20260422T224543
CREATED:20211116T193113Z
LAST-MODIFIED:20220129T172430Z
UID:602-1644521400-1644528600@newbury-society.org.uk
SUMMARY:The roles and responsibilities of the High Sheriff
DESCRIPTION:Willie Hartley Russell was sworn in as the High Sheriff of Berkshire on Friday 26th March\, 2021\, for this year.  The Office of High Sheriff is an independent\, non-political\, Royal appointment for the period of one year. It is the oldest secular office in country apart from the monarchy. Today\, the role is now largely ceremonial\, but carries the status of being the Queen’s highest judicial officer in the county.  The role involves a mix of ceremonial\, charitable and community functions. \nNote the change from the details previous advertised.  Dave Stubbs’ talk about the First Battle of Newbury will be given at a later date.
URL:https://newbury-society.org.uk/event/the-first-battle-of-newbury-a-turning-point-of-the-english-civil-war
LOCATION:Parish Room\, St. John’s Church\, St. John’s Road\, Newbury\, Berkshire\, RG14 7PY\, United Kingdom
CATEGORIES:Meetings
END:VEVENT
BEGIN:VEVENT
DTSTART;TZID=UTC:20211111T193000
DTEND;TZID=UTC:20211111T213000
DTSTAMP:20260422T224543
CREATED:20211004T124145Z
LAST-MODIFIED:20211108T134745Z
UID:52-1636659000-1636666200@newbury-society.org.uk
SUMMARY:World War One Stained Glass
DESCRIPTION:
URL:https://newbury-society.org.uk/event/open-day-1
LOCATION:Parish Room\, St. John’s Church\, St. John’s Road\, Newbury\, Berkshire\, RG14 7PY\, United Kingdom
CATEGORIES:Meetings
END:VEVENT
BEGIN:VEVENT
DTSTART;TZID=UTC:20211014T193000
DTEND;TZID=UTC:20211014T213000
DTSTAMP:20260422T224543
CREATED:20210920T124004Z
LAST-MODIFIED:20211011T150136Z
UID:13-1634239800-1634247000@newbury-society.org.uk
SUMMARY:The Newbury Society AGM
DESCRIPTION:Annual General Meeting
URL:https://newbury-society.org.uk/event/agm-2021
LOCATION:Parish Room\, St. John’s Church\, St. John’s Road\, Newbury\, Berkshire\, RG14 7PY\, United Kingdom
CATEGORIES:Meetings
END:VEVENT
END:VCALENDAR